Object = IsisCube
  Object = Core
    StartByte = 47261
    ^Core = Enceladus_Cassini_ISS_SPole30S_100m_HPF.tif
    Format = BandSequential
    Group = Dimensions
      Samples = 5824
      Lines = 5824
      Bands = 1
    End_Group
    Group = Pixels
      Type = UnsignedByte
      ByteOrder = Lsb
      Base = 0.0
      Multiplier = 1.0
    End_Group
  End_Object
  Group = Mapping
    TargetName = Enceladus
    EquatorialRadius = 252100.0
    PolarRadius = 252100.0
    LatitudeType = Planetocentric
    LongitudeDirection = PositiveEast
    LongitudeDomain = 180
    MinimumLatitude = -11.5176779466175319
    MinimumLongitude = -134.999999999999972
    MaximumLatitude = -11.5176779466175319
    MaximumLongitude = 134.999999999999972
    ProjectionName = PolarStereographic
    CenterLongitude = 0.0
    CenterLatitude = -90.0
    scaleFactor = 1.0
    UpperLeftCornerX = -291200.0
    UpperLeftCornerY = 291200.0
    PixelResolution = 100.0
    Scale = 43.9997504427770494
  End_Group
End_Object
Object = Label
  Bytes = 1214
End_Object
End
