PDS_VERSION_ID = PDS3
DD_VERSION_ID = PDSCAT1R100
LABEL_REVISION_NOTE = "2017-05-01, David P. Mayer (USGS), initial PDS3 label pointing to GeoTIFF;"
RECORD_TYPE = FIXED_LENGTH
RECORD_BYTES = 19631
TARGET_NAME = EUROPA
^IMAGE = ("Europa_Voyager_GalileoSSI_global_mosaic_500m.tif", 79368 )
OBJECT = IMAGE
  LINES = 9816
  LINE_SAMPLES = 19631
  SAMPLE_BITS = 8
  SAMPLE_TYPE = LSB_UNSIGNED_INTEGER
  BANDS = 1
  BAND_STORAGE_TYPE = BAND_SEQUENTIAL
END_OBJECT = IMAGE
OBJECT = IMAGE_MAP_PROJECTION
  MAP_PROJECTION_TYPE = SIMPLE_CYLINDRICAL
  A_AXIS_RADIUS = 1562.0899657999998
  B_AXIS_RADIUS = 1562.0899657999998
  C_AXIS_RADIUS = 1562.0899657999998
  FIRST_STANDARD_PARALLEL = N/A
  SECOND_STANDARD_PARALLEL = N/A
  POSITIVE_LONGITUDE_DIRECTION = WEST
  CENTER_LATITUDE = N/A
  CENTER_LONGITUDE = 180
  REFERENCE_LATITUDE = N/A
  REFERENCE_LONGITUDE = N/A
  LINE_FIRST_PIXEL = 1
  LINE_LAST_PIXEL = 9816
  SAMPLE_FIRST_PIXEL = 1
  SAMPLE_LAST_PIXEL = 19631
  MAP_PROJECTION_ROTATION = 0.0
  MAP_RESOLUTION = 54.53
  MAP_SCALE = 499.97456657942
  MAXIMUM_LATITUDE = 90
  MINIMUM_LATITUDE = -90
  EASTERNMOST_LONGITUDE = 0
  WESTERNMOST_LONGITUDE = 360
  LINE_PROJECTION_OFFSET = 4907.500000000013
  SAMPLE_PROJECTION_OFFSET = -9816.500000000025
  COORDINATE_SYSTEM_TYPE = "BODY-FIXED ROTATING"
  COORDINATE_SYSTEM_NAME = PLANETOCENTRIC
  PROJECTION_LATITUDE_TYPE = PLANETOCENTRIC
END_OBJECT = IMAGE_MAP_PROJECTION
END
