Object = IsisCube
  Object = Core
    Group = Dimensions
      Samples = 92160
      Lines = 46080
      Bands = 1
    End_Group
    Group = Pixels
      Type = UnsignedByte
      ByteOrder = Lsb
      Base = 0.0
      Multiplier = 1.0
    End_Group
    StartByte = 738072
    ^Core = Lunar_Clementine_UVVIS_750nm_Global_Mosaic_118m_v2.1.tif
    Format = BandSequential
  End_Object
  Group = BandBin
    Center = 0.75
    Width = 0.0100000000000000002
    OriginalBand = 1
  End_Group
  Group = Archive
    DataSetId = Clem_UVVIS_Mosaic_Global_256ppd_v02
    ProducerInstitutionName = "USGS, Astrogeology Science Center"
    ProducerId = Astrogeology
    ProducerFullName = "Astrogeology Science Center"
    ProductId = Clem_UVVIS_Mosaic_Global_256ppd_v02
    ProductVersionId = 2
    InstrumentHostName = Clementine
    InstrumentName = "UV/VIS camera"
    InstrumentId = UVVIS
    TargetName = Moon
    MissionPhaseName = Nominal
  End_Group
  Group = Mapping
    TargetName = Moon
    EquatorialRadius = 1737400.0
    PolarRadius = 1737400.0
    LatitudeType = Planetocentric
    LongitudeDirection = PositiveEast
    LongitudeDomain = 180
    MinimumLatitude = -90.0
    MinimumLongitude = -180.0
    MaximumLatitude = 90.0
    MaximumLongitude = 180.0
    ProjectionName = Equirectangular
    CenterLongitude = 0.0
    CenterLatitude = 0.0
    CenterLatitudeRadius = 1737400.0
    UpperLeftCornerX = -5458203.18719999958
    UpperLeftCornerY = 2729101.59359999979
    PixelResolution = 118.450590000000005
    Scale = 256.0
  End_Group
End_Object
Object = Label
  Bytes = 1904
End_Object
End
