Object = IsisCube
  Object = Core
    StartByte = 2183488
    Format = BandSequential
    Group = Dimensions
      Samples = 54545
      Lines = 27273
      Bands = 5
    End_Group
    Group = Pixels
      Type = SignedWord
      ByteOrder = Lsb
      Base = -0.0010300000000000001
      Multiplier = 0.000136999999999999996
    End_Group
    ^Core = Lunar_Clementine_UVVIS_WarpMosaic_5Bands_200m.tif
  End_Object
  Group = Mapping
    ProjectionName = SimpleCylindrical
    CenterLongitude = 0.0
    TargetName = Moon
    EquatorialRadius = 1737400.0
    PolarRadius = 1737400.0
    LatitudeType = Planetocentric
    LongitudeDirection = PositiveEast
    LongitudeDomain = 180
    MaximumLongitude = 180.0
    MinimumLongitude = -180.0
    MaximumLatitude = 90.0
    MinimumLatitude = -90.0
    UpperLeftCornerX = -5458157.59150699992
    UpperLeftCornerY = 2729128.8292820002
    PixelResolution = 200.134113000000013
    Scale = 151.515152
  End_Group
  Group = AlphaCube
    AlphaSamples = 54545
    AlphaLines = 27273
    AlphaStartingSample = 0.5
    AlphaStartingLine = 0.5
    AlphaEndingSample = 54545.5
    AlphaEndingLine = 27273.5
    BetaSamples = 54545
    BetaLines = 27273
  End_Group
End_Object
Object = Label
  Bytes = 1506
End_Object
End
