Object = IsisCube
  Object = Core
    StartByte = 92980
    Format = BandSequential
    Group = Dimensions
      Samples = 23040
      Lines = 11520
      Bands = 1
    End_Group
    Group = Pixels
      Type = SignedWord
      ByteOrder = Lsb
      Base = 0.0
      Multiplier = 2.00000000000000016e-05
    End_Group
    ^Core = Lunar_Kaguya_TC_Morning_Global_64ppd_v02.tif
  End_Object
  Group = BandBin
    FilterName = BroadBand
    Center = 640nm
    Width = 420nm
  End_Group
  Group = Mapping
    ProjectionName = SimpleCylindrical
    CenterLongitude = 0.0
    TargetName = Moon
    EquatorialRadius = 1737400.0
    PolarRadius = 1737400.0
    LatitudeType = Planetocentric
    LongitudeDirection = PositiveEast
    LongitudeDomain = 180
    MinimumLatitude = -90.0
    MaximumLatitude = 90.0
    MinimumLongitude = -180.0
    MaximumLongitude = 180.0
    UpperLeftCornerX = -5458203.07634699997
    UpperLeftCornerY = 2729101.53817299986
    PixelResolution = 473.80234999999999
    Scale = 64.0
  End_Group
End_Object
Object = Label
  Bytes = 1255
End_Object
End
