Object = IsisCube
  Object = Core
    StartByte = 15044
    ^Core = Lunar_LRO_LOLA_Albedo_Global_10ppd.tif
    Format = BandSequential
    Group = Dimensions
      Samples = 3600
      Lines = 1800
      Bands = 1
    End_Group
    Group = Pixels
      Type = SignedWord
      ByteOrder = Lsb
      Base = 0.0
      Multiplier = 1.0
    End_Group
  End_Object
  Group = Mapping
    TargetName = MOON
    EquatorialRadius = 1737400.0
    PolarRadius = 1737400.0
    LatitudeType = Planetocentric
    LongitudeDirection = PositiveEast
    LongitudeDomain = 180
    MinimumLatitude = -89.9999999995563087
    MinimumLongitude = -8.8729842281596581e-10
    MaximumLatitude = 89.9999999995563087
    MaximumLongitude = 8.87374756128320981e-10
    ProjectionName = Equirectangular
    CenterLongitude = 180.0
    CenterLatitude = 0.0
    CenterLatitudeRadius = 1737400.0
    UpperLeftCornerX = -5458203.07631999999
    UpperLeftCornerY = 2729101.53816
    PixelResolution = 3032.33504240000002
    Scale = 10.0000000000492957
  End_Group
End_Object
Object = Label
  Bytes = 1280
End_Object
End
