Object = IsisCube
  Object = Core
    StartByte = 277128
    Format = BandSequential
    Group = Dimensions
      Samples = 23040
      Lines = 11520
      Bands = 3
    End_Group
    Group = Pixels
      Type = UnsignedByte
      ByteOrder = Lsb
      Base = 0.0
      Multiplier = 1.0
    End_Group
    ^Core = Lunar_LRO_LOLA_ClrShade_Global_64ppd_BlueSteel.tif
  End_Object
  Group = Archive
    DataSetId = LRO-L-LOLA-4-GDR-V1.0
    ProducerInstitutionName = "GODDARD SPACE FLIGHT CENTER"
    ProducerId = "Astrogeology, LRO_LOLA_TEAM"
    ProducerFullName = Astrogeology
    ProductId = LDEM_64
    ProductVersionId = V1.07
    InstrumentHostName = "LUNAR RECONNAISSANCE ORBITER"
    InstrumentName = "LUNAR ORBITER LASER ALTIMETER"
    InstrumentId = LOLA
    TargetName = MOON
    MissionPhaseName = "COMMISSIONING, NOMINAL MISSION, SCIENCE MISSION, EXTENDED SCIENCE MISSION"
  End_Group
  Group = Mapping
    ProjectionName = SimpleCylindrical
    CenterLongitude = 0.0
    TargetName = Moon
    EquatorialRadius = 1737400.0
    PolarRadius = 1737400.0
    LatitudeType = Planetocentric
    LongitudeDirection = PositiveEast
    LongitudeDomain = 180
    MinimumLatitude = -90.0
    MaximumLatitude = 90.0
    MinimumLongitude = -180.0
    MaximumLongitude = 180.0
    UpperLeftCornerX = -5458203.07634699997
    UpperLeftCornerY = 2729101.53817299986
    PixelResolution = 473.80234999999999
    Scale = 64.0
    CenterLatitude = 0.0
  End_Group
End_Object
Object = Label
  Bytes = 1818
End_Object
End
