PDS_VERSION_ID = PDS3
DD_VERSION_ID = PDSCAT1R100
LABEL_REVISION_NOTE = "2017-05-01, David P. Mayer (USGS), initial PDS3 label pointing to GeoTIFF;"
RECORD_TYPE = FIXED_LENGTH
DATA_SET_ID = Kaguya_MIMap_MineralDeconv_OpticalMaturityIndex
PRODUCER_ID = JAXA
PRODUCER_FULL_NAME = "LEMELIN M., ET AL."
PRODUCER_INSTITUTION_NAME = "UNIV. OF HAWAII; JAPAN AEROSPACE EXPLORATION AGENCY"
PRODUCT_ID = "MI Mineral Map"
INSTRUMENT_HOST_NAME = SELENE/KAGUYA
INSTRUMENT_NAME = "MULTIBAND IMAGER (MI)"
INSTRUMENT_ID = MI
RECORD_BYTES = 737280
TARGET_NAME = MOON_2000
^IMAGE = ("Lunar_Kaguya_MIMap_MineralDeconv_OpticalMaturityIndex_50N50S.tif", 819926 )
OBJECT = IMAGE
  LINES = 51200
  LINE_SAMPLES = 184320
  SAMPLE_BITS = 32
  SAMPLE_TYPE = IEEE_REAL
  BANDS = 1
  BAND_STORAGE_TYPE = BAND_SEQUENTIAL
  SCALING_FACTOR = 1.0
  OFFSET = 0.0
END_OBJECT = IMAGE
OBJECT = IMAGE_MAP_PROJECTION
  MAP_PROJECTION_TYPE = SIMPLE_CYLINDRICAL
  A_AXIS_RADIUS = 1737.4
  B_AXIS_RADIUS = 1737.4
  C_AXIS_RADIUS = 1737.4
  FIRST_STANDARD_PARALLEL = N/A
  SECOND_STANDARD_PARALLEL = N/A
  POSITIVE_LONGITUDE_DIRECTION = EAST
  CENTER_LATITUDE = 0.0
  CENTER_LONGITUDE = 0.0
  REFERENCE_LATITUDE = N/A
  REFERENCE_LONGITUDE = N/A
  LINE_FIRST_PIXEL = 1
  LINE_LAST_PIXEL = 51200
  SAMPLE_FIRST_PIXEL = 1
  SAMPLE_LAST_PIXEL = 184320
  MAP_PROJECTION_ROTATION = 0.0
  MAP_RESOLUTION = 512.0
  MAP_SCALE = 59.225293797166955
  MAXIMUM_LATITUDE = 50.0
  MINIMUM_LATITUDE = -50.0
  EASTERNMOST_LONGITUDE = 180.0
  WESTERNMOST_LONGITUDE = -180.0
  LINE_PROJECTION_OFFSET = 25599.500000000004
  SAMPLE_PROJECTION_OFFSET = 92159.5
  COORDINATE_SYSTEM_TYPE = "BODY-FIXED ROTATING"
  COORDINATE_SYSTEM_NAME = PLANETOCENTRIC
  PROJECTION_LATITUDE_TYPE = PLANETOCENTRIC
END_OBJECT = IMAGE_MAP_PROJECTION
END
