Object = IsisCube
  Object = Core
    StartByte = 180860
    Format = BandSequential
    Group = Dimensions
      Samples = 46080
      Lines = 22528
      Bands = 1
    End_Group
    Group = Pixels
      Type = UnsignedByte
      ByteOrder = Lsb
      Base = 0.0
      Multiplier = 1.0
    End_Group
    ^Core = Mars_MGS_MOLA_Shade_global_463m.tif
  End_Object
  Group = BandBin
    FilterName = NA
  End_Group
  Group = Mapping
    ProjectionName = SimpleCylindrical
    CenterLongitude = 180.0
    TargetName = Mars
    EquatorialRadius = 3396000.0
    PolarRadius = 3396000.0
    LatitudeType = Planetocentric
    LongitudeDirection = PositiveEast
    LongitudeDomain = 360
    MinimumLatitude = -88.0
    MaximumLatitude = 88.0
    MinimumLongitude = 0.0
    MaximumLongitude = 360.0
    UpperLeftCornerX = -10667520.0
    UpperLeftCornerY = 5215232.0
    PixelResolution = 463.0
    Scale = 128.0
  End_Group
End_Object
Object = Label
  Bytes = 1126
End_Object
End
