Object = IsisCube
  Object = Core
    StartByte = 2212630
    Format = BandSequential
    Group = Dimensions
      Samples = 92160
      Lines = 46080
      Bands = 3
    End_Group
    Group = Pixels
      Type = UnsignedByte
      ByteOrder = Lsb
      Base = 0.0
      Multiplier = 1.0
    End_Group
    ^Core = Mars_Viking_MDIM21_ClrMosaic_global_232m.tif
  End_Object
  Group = Archive
    DataSetId = MDIM21_USGS_AMES_recolor
    ProducerInstitutionName = "Astrogeology Science Center"
    ProducerId = Astrogeology
    ProducerFullName = USGS
    ProductId = MDIM21
    InstrumentHostName = VIKING
    InstrumentName = VIS
    TargetName = Mars
  End_Group
  Group = Mapping
    ProjectionName = SimpleCylindrical
    CenterLongitude = 0.0
    TargetName = Mars
    EquatorialRadius = 3396190.0
    PolarRadius = 3376200.0
    LatitudeType = Planetocentric
    LongitudeDirection = PositiveEast
    LongitudeDomain = 180
    MinimumLatitude = -90.0
    MaximumLatitude = 90.0
    MinimumLongitude = -180.0
    MaximumLongitude = 180.0
    UpperLeftCornerX = -10669445.5541949999
    UpperLeftCornerY = 5334722.77709800005
    PixelResolution = 231.541786999999999
    Scale = 256.0
    CenterLatitude = 0.0
  End_Group
End_Object
Object = Label
  Bytes = 1532
End_Object
End
