Object = IsisCube
  Object = Core
    StartByte = 277318
    Format = BandSequential
    Group = Dimensions
      Samples = 23054
      Lines = 11527
      Bands = 3
    End_Group
    Group = Pixels
      Type = UnsignedByte
      ByteOrder = Lsb
      Base = 0.0
      Multiplier = 1.0
    End_Group
    ^Core = Mercury_MESSENGER_ClrMosaic_global_665m_v3.tif
  End_Object
  Group = Archive
    DataSetId = Mercury_MESSENGER_ClrMosaic_global_665mpp_v3
    ProducerInstitutionName = "Arizona State University"
    ProducerId = ASU
    ProducerFullName = "MESSENGER Team"
    ProductId = V3
    ProductVersionId = n/a
    InstrumentHostName = MDIS
    InstrumentName = MDIS_WAC
    InstrumentId = MDIS
    TargetName = Mercury
    MissionPhaseName = n/a
  End_Group
  Group = Mapping
    ProjectionName = Equirectangular
    CenterLongitude = 0.0
    TargetName = Mercury
    EquatorialRadius = 2440000.0
    PolarRadius = 2440000.0
    LatitudeType = Planetocentric
    LongitudeDirection = PositiveEast
    LongitudeDomain = 180
    MinimumLatitude = -90.0
    MaximumLatitude = 90.0
    MinimumLongitude = -180.0
    MaximumLongitude = 180.0
    UpperLeftCornerX = -7665486.07475899998
    UpperLeftCornerY = 3832743.03738000011
    PixelResolution = 665.002696000000014
    Scale = 64.0388999999999982
    CenterLatitude = 0.0
  End_Group
End_Object
Object = Label
  Bytes = 1673
End_Object
End
