PDS_VERSION_ID = PDS3
DD_VERSION_ID = PDSCAT1R100
LABEL_REVISION_NOTE = "2017-05-01, David P. Mayer (USGS), initial PDS3 label pointing to GeoTIFF;"
RECORD_TYPE = FIXED_LENGTH
DATA_SET_ID = Mercury_MESSENGER_ClrMosaic_global_665mpp_v3
PRODUCER_ID = ASU
PRODUCER_FULL_NAME = "MESSENGER TEAM"
PRODUCER_INSTITUTION_NAME = "ARIZONA STATE UNIVERSITY"
PRODUCT_ID = V3
INSTRUMENT_HOST_NAME = MDIS
INSTRUMENT_NAME = MDIS_WAC
INSTRUMENT_ID = MDIS
RECORD_BYTES = 23054
TARGET_NAME = MERCURY
^IMAGE = ("Mercury_MESSENGER_ClrMosaic_global_665m_v3.tif", 277318 )
OBJECT = IMAGE
  LINES = 11527
  LINE_SAMPLES = 23054
  SAMPLE_BITS = 8
  SAMPLE_TYPE = LSB_UNSIGNED_INTEGER
  BANDS = 3
  BAND_STORAGE_TYPE = BAND_SEQUENTIAL
END_OBJECT = IMAGE
OBJECT = IMAGE_MAP_PROJECTION
  MAP_PROJECTION_TYPE = EQUIRECTANGULAR
  A_AXIS_RADIUS = 2440.0
  B_AXIS_RADIUS = 2440.0
  C_AXIS_RADIUS = 2440.0
  FIRST_STANDARD_PARALLEL = N/A
  SECOND_STANDARD_PARALLEL = N/A
  POSITIVE_LONGITUDE_DIRECTION = EAST
  CENTER_LATITUDE = 0.0
  CENTER_LONGITUDE = 0.0
  REFERENCE_LATITUDE = N/A
  REFERENCE_LONGITUDE = N/A
  LINE_FIRST_PIXEL = 1
  LINE_LAST_PIXEL = 11527
  SAMPLE_FIRST_PIXEL = 1
  SAMPLE_LAST_PIXEL = 23054
  MAP_PROJECTION_ROTATION = 0.0
  MAP_RESOLUTION = 64.0389
  MAP_SCALE = 665.002696
  MAXIMUM_LATITUDE = 90.0
  MINIMUM_LATITUDE = -90.0
  EASTERNMOST_LONGITUDE = 180.0
  WESTERNMOST_LONGITUDE = -180.0
  LINE_PROJECTION_OFFSET = 5762.999998472186
  SAMPLE_PROJECTION_OFFSET = 11526.49999694287
  COORDINATE_SYSTEM_TYPE = "BODY-FIXED ROTATING"
  COORDINATE_SYSTEM_NAME = PLANETOCENTRIC
  PROJECTION_LATITUDE_TYPE = PLANETOCENTRIC
END_OBJECT = IMAGE_MAP_PROJECTION
END
