Object = IsisCube
  Object = Core
    StartByte = 738284
    Format = BandSequential
    Group = Dimensions
      Samples = 92160
      Lines = 46080
      Bands = 1
    End_Group
    Group = Pixels
      Type = UnsignedByte
      ByteOrder = Lsb
      Base = -0.00395256916996050006
      Multiplier = 1.00395256916999998
    End_Group
    ^Core = Mercury_MESSENGER_MDIS_Basemap_LOI_Mosaic_Global_166m.tif
  End_Object
  Group = Archive
    DataSetId = MESS-H-MDIS-5-RDR-LOI-V1.0
    ProducerInstitutionName = "APPLIED COHERENT TECHNOLOGY CORPORATION"
    ProducerId = ACT
    ProducerFullName = "APPLIED COHERENT TECHNOLOGY"
    ProductId = MDIS_LOI_256PPD_GLOBAL_8BIT
    ProductVersionId = 1
    InstrumentHostName = MESSENGER
    InstrumentName = ("MERCURY DUAL IMAGING SYSTEM NARROW ANGLE CAMERA", "MERCURY DUAL IMAGING SYSTEM WIDE ANGLE CAMERA")
    InstrumentId = (MDIS-NAC, MDIS-WAC)
    TargetName = MERCURY
    MissionPhaseName = SCIENCE
  End_Group
  Group = Mapping
    ProjectionName = SimpleCylindrical
    CenterLongitude = 0.0
    TargetName = Mercury
    EquatorialRadius = 2439400.0
    PolarRadius = 2439400.0
    LatitudeType = Planetocentric
    LongitudeDirection = PositiveEast
    LongitudeDomain = 180
    MinimumLatitude = -90.0
    MaximumLatitude = 90.0
    MinimumLongitude = -180.0
    MaximumLongitude = 180.0
    UpperLeftCornerX = -7663601.11916700006
    UpperLeftCornerY = 3831800.55958299991
    PixelResolution = 166.310788000000002
    Scale = 256.0
    CenterLatitude = 0.0
  End_Group
End_Object
Object = Label
  Bytes = 1889
End_Object
End
