Object = IsisCube
  Object = Core
    StartByte = 46716
    Format = BandSequential
    Group = Dimensions
      Samples = 11520
      Lines = 5760
      Bands = 1
    End_Group
    Group = Pixels
      Type = UnsignedByte
      ByteOrder = Lsb
      Base = 0.0
      Multiplier = 1.0
    End_Group
    ^Core = Rhea_Cassini_Voyager_mosaic_global_417m.tif
  End_Object
  Group = Instrument
    TargetName = Rhea
  End_Group
  Group = BandBin
    Center = 1.0
    OriginalBand = 1
  End_Group
  Group = Mapping
    ProjectionName = SimpleCylindrical
    CenterLongitude = 180.0
    TargetName = Rhea
    EquatorialRadius = 764100.0
    PolarRadius = 764100.0
    LatitudeType = Planetocentric
    LongitudeDirection = PositiveWest
    LongitudeDomain = 180
    MinimumLatitude = -90.0
    MaximumLatitude = 90.0
    MinimumLongitude = -180.0
    MaximumLongitude = 180.0
    UpperLeftCornerX = 0.0
    UpperLeftCornerY = 1200245.47330399998
    PixelResolution = 416.751899999999978
    Scale = 32.0
  End_Group
End_Object
Object = Label
  Bytes = 1246
End_Object
End
