Object = IsisCube
  Object = Core
    StartByte = 1232532
    Format = BandSequential
    Group = Dimensions
      Samples = 168976
      Lines = 76983
      Bands = 1
    End_Group
    Group = Pixels
      Type = UnsignedByte
      ByteOrder = Lsb
      Base = 0.0
      Multiplier = 1.0
    End_Group
    ^Core = Venus_Magellan_RightLook_mosaic_global_225m.tif
  End_Object
  Group = Archive
    DataSetId = Venus_Magellan_RightLook_mosaic_global_75m
    ProducerInstitutionName = "Astrogeology Science Center"
    ProducerId = Astrogeology
    ProducerFullName = USGS
    ProductId = n/a
    ProductVersionId = n/a
    InstrumentHostName = Magellan
    InstrumentName = n/a
    InstrumentId = n/a
    TargetName = Venus
    MissionPhaseName = n/a
  End_Group
  Group = Mapping
    ProjectionName = Equirectangular
    CenterLongitude = 0.0
    TargetName = Venus
    EquatorialRadius = 6051000.0
    PolarRadius = 6051000.0
    LatitudeType = Planetocentric
    LongitudeDirection = PositiveEast
    LongitudeDomain = 180
    MinimumLatitude = -80.0105910000000051
    MaximumLatitude = 83.9996430000000061
    MinimumLongitude = -180.0
    MaximumLongitude = 180.0
    UpperLeftCornerX = -19009775.9367000014
    UpperLeftCornerY = 8871191.60249999911
    PixelResolution = 225.0
    Scale = 469.377200000000016
    CenterLatitude = 0.0
  End_Group
End_Object
Object = Label
  Bytes = 1685
End_Object
End
