Object = IsisCube
  Object = Core
    StartByte = 33424
    ^Core = Venus_Magellan_Topography_Global_4641m.tif
    Format = BandSequential
    Group = Dimensions
      Samples = 8193
      Lines = 4097
      Bands = 1
    End_Group
    Group = Pixels
      Type = SignedWord
      ByteOrder = Lsb
      Base = 0.0
      Multiplier = 1.0
    End_Group
  End_Object
  Group = Mapping
    TargetName = Venus
    EquatorialRadius = 6051000.0
    PolarRadius = 6051000.0
    LatitudeType = Planetocentric
    LongitudeDirection = PositiveEast
    LongitudeDomain = 180
    MinimumLatitude = -90.0
    MinimumLongitude = -180.0
    MaximumLatitude = 90.0
    MaximumLongitude = 180.0
    ProjectionName = Equirectangular
    CenterLongitude = 0.0
    CenterLatitude = 0.0
    CenterLatitudeRadius = 6051000.0
    UpperLeftCornerX = -19014417.9035999998
    UpperLeftCornerY = 9509529.48120000027
    PixelResolution = 4641.05879999999979
    Scale = 22.7555559171490955
  End_Group
End_Object
Object = Label
  Bytes = 1435
End_Object
Object = History
  Name = IsisCube
  StartByte = 1
  Bytes = 380
  ^History = Venus_Magellan_Topography_Global_4641m.History.IsisCube
End_Object
End
